BEGIN:VCALENDAR
VERSION:2.0
METHOD:PUBLISH
X-WR-CALNAME;VALUE=TEXT:
PRODID:-//Drupal iCal API//EN
BEGIN:VEVENT
2026-02-23 04:00:00 AEDT
2026-02-23 05:00:00 AEDT
DTSTART:20260222T170000Z
DTEND:20260222T180000Z
SUMMARY:Stretching Cities: On the Neo-Pentecostalization of Urban Space
UID:948a5610-3867-4fa0-a5c6-c0a1277083ab
URL:https://archanth.cass.anu.edu.au/events/stretching-cities-neo-pentecostalization-urban-space
END:VEVENT
END:VCALENDAR
