BEGIN:VCALENDAR
VERSION:2.0
METHOD:PUBLISH
X-WR-CALNAME;VALUE=TEXT:
PRODID:-//Drupal iCal API//EN
BEGIN:VEVENT
2026-03-12 11:00:00 AEDT
2026-03-13 12:00:00 AEDT
DTSTART:20260312T120000Z
DTEND:20260313T010000Z
SUMMARY:Deciphering Diet: Primate Nutritional Ecology and Social Behavior in a Changing World
UID:33ddfa98-5a67-4473-8111-71b10641de60
URL:https://archanth.cass.anu.edu.au/events/deciphering-diet-primate-nutritional-ecology-and-social-behavior-changing-world
END:VEVENT
END:VCALENDAR
